Workbook
Name \a: #N/A
Name \b: #N/A
Name \p: #N/A
Name \z: #N/A
Name _????: #REF!
Name _????: #REF!
Name _????: #REF!
Name __????: #REF!
Name __????: #REF!
Name __????: #REF!
Name ________A999999: #REF!
Name ________A999999: #REF!
Name ________A999999: #REF!
Name ________day3: #REF!
Name ________day3: #REF!
Name ________day3: #REF!
Name ________day4: #REF!
Name ________day4: #REF!
Name ________day4: #REF!
Name _______day3: #REF!
Name _______day3: #REF!
Name _______day3: #REF!
Name _______day4: #REF!
Name _______day4: #REF!
Name _______day4: #REF!
Name ______A999999: #REF!
Name ______A999999: #REF!
Name ______A999999: #REF!
Name ______day3: #REF!
Name ______day3: #REF!
Name ______day3: #REF!
Name ______day4: #REF!
Name ______day4: #REF!
Name ______day4: #REF!
Name _____a145: #REF!
Name _____a145: #REF!
Name _____a145: #REF!
Name _____a146: #REF!
Name _____a146: #REF!
Name _____a146: #REF!
Name _____a147: #REF!
Name _____a147: #REF!
Name _____a147: #REF!
Name _____A999999: #N/A
Name _____day3: #REF!
Name _____day3: #REF!
Name _____day3: #REF!
Name _____day4: #REF!
Name _____day4: #REF!
Name _____day4: #REF!
Name _____JAP97: #REF!
Name _____JAP97: #REF!
Name _____JAP97: #REF!
Name _____JAP98: #REF!
Name _____JAP98: #REF!
Name _____JAP98: #REF!
Name _____KOR97: #REF!
Name _____KOR97: #REF!
Name _____KOR97: #REF!
Name _____KOR98: #REF!

Sheet ИТБ СВОД_кискача
A1: Ислом тараққиёт банки иштирокида “Қишлоқ жойларни комплекс ривожлантириш” лойиҳаси (2-босқич) учун янги қувват, реконструкция ва мукаммал таъмирлаш режалаштирилган ижтимоий ва инфратузилма объектлари тўғрисида
A2: МАЪЛУМОТ
AB3: 15.05.2025 й ҳолатига
A4: № | B4: Ҳудудлар номи | C4: Аҳоли сони | D4: МФЙ сони (марказий / ёндош) | E4: Молиялаш тириш миқдори, АҚШ доллари | F4: Объектлар сони | G4: шу жумладан, | AD4: Қиймати (млн.сўм)
G5: Ижтимоий соҳа | M5: Йўл инфратузилмаси | O5: Ичимлик сув | R5: Электр таъминоти | U5: Пиёдалар йўлаги, кўча ёритиш тизими билан таъминлаш | W5: Суғориш тизимини яхшилаш (ирригация тармоқлари ва мелиорация объектлари) | Z5: Кўприк қуриш | AC5: Канализация
G6: Мактаб | I6: Мактабгача таълим ташкилоти | K6: Тиббиёт муассасаси
G7: сони | H7: қуввати (ўқув ўрни) | I7: сони | J7: қуввати (ўқув ўрни) | K7: сони | L7: қуввати (қатнов) | M7: сони | N7: км | O7: сони | P7: км | Q7: сув объекти (сув иншооти ва артезиан) | R7: сони | S7: км | T7: ТП | U7: сони | V7: км | W7: сони | X7: км | Y7: Артезиан/насос станция (сони) | Z7: сони | AA7: Янги | AB7: Реконструкция | AC7: сони
B8: ЖАМИ | C8: =C9+C15+C22 -> 622631 | D8: ЖАМИ 157 та 41 / 116 | E8: =SUM(E9,E15,E22) -> 232000000 | F8: =SUM(F9,F15,F22) -> 779 | G8: =SUM(G9,G15,G22) -> 104 | H8: =SUM(H9,H15,H22) -> 32298 | I8: =SUM(I9,I15,I22) -> 48 | J8: =SUM(J9,J15,J22) -> 4680 | K8: =+K9+K15+K22 -> 16 | L8: =L9+L15+L22 -> 875 | M8: =SUM(M9,M15,M22) -> 149 | N8: =SUM(N9,N15,N22) -> 1773.76 | O8: =SUM(O9,O15,O22) -> 100 | P8: =SUM(P9,P15,P22) -> 1673.32 | Q8: =Q9+Q15+Q22 -> 171 | R8: =SUM(R9,R15,R22) -> 138 | S8: =SUM(S9,S15,S22) -> 2082.81 | T8: =SUM(T9,T15,T22) -> 525 | U8: =SUM(U9,U15,U22) -> 166 | V8: =SUM(V9,V15,V22) -> 280.21 | W8: =SUM(W9,W15,W22) -> 39 | X8: =SUM(X9,X15,X22) -> 123.14 | Y8: =Y9+Y15+Y22 -> 33 | Z8: =Z9+Z15+Z22 -> 17 | AA8: =SUM(AA9,AA15,AA22) -> 18 | AB8: =AB9+AB15+AB22 -> 7 | AC8: =SUM(AC9,AC15,AC22) -> 2 | AD8: =SUM(AD9,AD15,AD22) -> 2976217.1
A9: 1 | B9: Сурхондарё вилояти | C9: =SUM(C10:C14) -> 232499 | D9: Жами 60 та 14 / 46 | E9: =SUM(E10:E14) -> 86633252 | F9: =SUM(F10:F14) -> 278 | G9: =SUM(G10:G14) -> 31 | H9: =SUM(H10:H14) -> 14505 | I9: =SUM(I10:I14) -> 16 | J9: =SUM(J10:J14) -> 1470 | K9: =SUM(K10:K14) -> 2 | L9: =SUM(L10:L14) -> 100 | ... AD9: =SUM(AD10:AD14) -> 1112375.1
B10: Ангор тумани | C10: 32406 | D10: 2 / 7 | E10: 12074772 | F10: =G10+I10+K10+M10+O10+R10+U10+W10+Z10+AC10 -> 38 | G10: 4 | H10: 2390 | I10: 2 | J10: 180 | K10: 0 | L10: 0 | M10: 9 | N10: =+Руйхат!J9+Руйхат!J16+Руйхат!J21+Руйхат!J30+Руйхат!J36+Руйхат!J41+Руйхат!J50+Руйхат!J54+Руйхат!J62 -> 94.31 | O10: 7 | P10: 120.4 | Q10: 9 | R10: 6 | S10: 74.4 | T10: 19 | U10: 9 | V10: 11 | W10: 0 | X10: 0 | Y10: 0 | Z10: =+AA10+AB10 -> 1 | AA10: 0 | AB10: 1 | AC10: 0 | AD10: 153291
B11: Бoйсун тумани | C11: 28208 | D11: 2 / 7 | E11: 10510559 | F11: =G11+I11+K11+M11+O11+R11+U11+W11+Z11+AC11 -> 44 | G11: 3 | H11: 1160 | I11: 3 | J11: 360 | K11: 1 | L11: 50 | M11: 7 | N11: =+Руйхат!J72+Руйхат!J82+Руйхат!J87+Руйхат!J96+Руйхат!J102+Руйхат!J111+Руйхат!J115 -> 85.71 | O11: 6 | P11: 67.5 | Q11: 6 | R11: 7 | S11: 88.5 | T11: 21 | U11: 9 | V11: 10 | W11: 4 | X11: 13.4 | Y11: 0 | Z11: =+AA11+AB11 -> 4 | AA11: 4 | AB11: 0 | AC11: 0 | AD11: 136767.5
B12: Термиз тумани | C12: 16996 | D12: 1 / 4 | E12: 6334865 | F12: =G12+I12+K12+M12+O12+R12+U12+W12+Z12+AC12 -> 25 | G12: 3 | H12: 1970 | I12: 0 | J12: 0 | K12: 0 | L12: 0 | M12: 5 | N12: =+Руйхат!J135+Руйхат!J142+Руйхат!J147+Руйхат!J154+Руйхат!J161 -> 47.25 | O12: 5 | P12: 72.62 | Q12: 2 | R12: 4 | S12: 51.1 | T12: 15 | U12: 5 | V12: 8 | W12: 2 | X12: 4.5 | Y12: 1 | Z12: =+AA12+AB12 -> 1 | AA12: 1 | AB12: 0 | AC12: 0 | AD12: 82142.4
B13: Шеробод тумани | C13: 93272 | D13: 5 / 17 | E13: 34753999 | F13: =G13+I13+K13+M13+O13+R13+U13+W13+Z13+AC13 -> 103 | G13: 12 | H13: 5007 | I13: 6 | J13: 540 | K13: 1 | L13: 50 | M13: 19 | N13: 217.2 | O13: 13 | P13: 308 | Q13: 14 | R13: 18 | S13: 228.3 | T13: 72 | U13: 22 | V13: 30 | W13: 7 | X13: 28.4 | Y13: 1 | Z13: 5 | AA13: 8 | AB13: 1 | AC13: 0 | AD13: 441109.9
B14: Музработ тумани | C14: 61617 | D14: 4 / 11 | E14: 22959057 | F14: =G14+I14+K14+M14+O14+R14+U14+W14+Z14+AC14 -> 68 | G14: 9 | H14: 3978 | I14: 5 | J14: 390 | K14: 0 | L14: 0 | M14: 15 | N14: 232.7 | O14: 3 | P14: 66.6 | Q14: 1 | R14: 14 | S14: 279.6 | T14: 58 | U14: 15 | V14: 26.8 | W14: 5 | X14: 15.5 | Y14: 2 | Z14: 2 | AA14: 3 | AB14: 3 | AC14: 0 | AD14: 299064.3
A15: 2 | B15: Қашқадарё вилояти | C15: =SUM(C16:C21) -> 183090 | D15: Жами 45 та 11 / 34 | E15: =SUM(E16:E21) -> 68221006 | F15: =SUM(F16:F21) -> 222 | G15: =SUM(G16:G21) -> 26 | H15: =SUM(H16:H21) -> 7298 | I15: =SUM(I16:I21) -> 11 | J15: =SUM(J16:J21) -> 1050 | K15: =SUM(K16:K21) -> 4 | L15: =SUM(L16:L21) -> 250 | ... AD15: =SUM(AD16:AD21) -> 878343
B16: Китоб тумани | C16: 31190 | D16: 2 / 6 | E16: 11621679 | F16: =G16+I16+K16+M16+O16+R16+U16+W16+Z16+AC16 -> 40 | G16: 4 | H16: 1100 | I16: 1 | J16: 90 | K16: 0 | L16: 0 | M16: 8 | N16: 96.34 | O16: 6 | P16: 95.5 | Q16: 16 | R16: 8 | S16: 128.66 | T16: 41 | U16: 9 | V16: 13.5 | W16: 3 | X16: 7 | Y16: 3 | Z16: 1 | AA16: 0 | AB16: 1 | AC16: 0 | AD16: 150477
B17: Шаҳрисабз тумани | C17: 29117 | D17: 2 / 4 | E17: 10849260 | F17: =G17+I17+K17+M17+O17+R17+U17+W17+Z17+AC17 -> 31 | G17: 3 | H17: 1460 | I17: 1 | J17: 90 | K17: 2 | L17: 100 | M17: 5 | N17: 74.7 | O17: 4 | P17: 69.65 | Q17: 8 | R17: 5 | S17: 43.25 | T17: 23 | U17: 7 | V17: 16.2 | W17: 3 | X17: 24 | Y17: 7 | Z17: 0 | AA17: 0 | AB17: 0 | AC17: 1 | AD17: 139885
B18: Яккабоғ тумани | C18: 35707 | D18: 2 / 7 | E18: 13304754 | F18: =G18+I18+K18+M18+O18+R18+U18+W18+Z18+AC18 -> 46 | G18: 9 | H18: 1734 | I18: 4 | J18: 390 | K18: 2 | L18: 150 | M18: 9 | N18: 96.3 | O18: 4 | P18: 61.9 | Q18: 6 | R18: 8 | S18: 149.3 | T18: 33 | U18: 10 | V18: 26.33 | W18: 0 | X18: 0 | Y18: 0 | Z18: 0 | AA18: 0 | AB18: 0 | AC18: 0 | AD18: 170983
B19: Ғузор тумани | C19: 27876 | D19: 2 / 5 | E19: 10386852 | F19: =G19+I19+K19+M19+O19+R19+U19+W19+Z19+AC19 -> 38 | G19: 2 | H19: 1324 | I19: 1 | J19: 90 | K19: 0 | L19: 0 | M19: 7 | N19: 90.31 | O19: 6 | P19: 102.7 | Q19: 0 | R19: 6 | S19: 89.7 | T19: 19 | U19: 10 | V19: 23.14 | W19: 5 | X19: 7.7 | Y19: 12 | Z19: 1 | AA19: 0 | AB19: 1 | AC19: 0 | AD19: 133355
B20: Деҳқонобод тумани | C20: 22395 | D20: 1 / 5 | E20: 8344582 | F20: =G20+I20+K20+M20+O20+R20+U20+W20+Z20+AC20 -> 31 | G20: 2 | H20: 180 | I20: 3 | J20: 300 | K20: 0 | L20: 0 | M20: 6 | N20: 79.5 | O20: 0 | P20: 0 | Q20: 0 | R20: 5 | S20: 58.6 | T20: 15 | U20: 9 | V20: 26.47 | W20: 4 | X20: 9.2 | Y20: 3 | Z20: 2 | AA20: 2 | AB20: 0 | AC20: 0 | AD20: 106725
B21: Қамаши тумани | C21: 36805 | D21: 2 / 7 | E21: 13713879 | F21: =G21+I21+K21+M21+O21+R21+U21+W21+Z21+AC21 -> 36 | G21: 6 | H21: 1500 | I21: 1 | J21: 90 | K21: 0 | L21: 0 | M21: 8 | N21: 119.4 | O21: 5 | P21: 121.3 | Q21: 1 | R21: 6 | S21: 111 | T21: 19 | U21: 9 | V21: 18 | W21: 1 | X21: 5 | Y21: 3 | Z21: 0 | AA21: 0 | AB21: 0 | AC21: 0 | AD21: 176918
A22: 3 | B22: Самарканд вилояти | C22: =SUM(C23:C32) -> 207042 | D22: Жами 52 та 16 / 36 | E22: =SUM(E23:E32) -> 77145742 | F22: =SUM(F23:F32) -> 279 | G22: =SUM(G23:G32) -> 47 | H22: =SUM(H23:H32) -> 10495 | I22: =SUM(I23:I32) -> 21 | J22: =SUM(J23:J32) -> 2160 | K22: =SUM(K23:K32) -> 10 | L22: =SUM(L23:L32) -> 525 | ... AD22: =SUM(AD23:AD32) -> 985499
B23: Булунгур тумани | C23: 15803 | D23: 1/3 | E23: 5888342 | F23: =G23+I23+K23+M23+O23+R23+U23+W23+Z23+AC23 -> 20 | G23: 2 | H23: 120 | I23: 1 | J23: 120 | K23: 1 | L23: 100 | M23: 4 | N23: 37.5 | O23: 4 | P23: 60.6 | Q23: 17 | R23: 4 | S23: 66.6 | T23: 16 | U23: 4 | V23: 6.9 | W23: 0 | X23: 0 | Y23: 0 | Z23: 0 | AA23: 0 | AB23: 0 | AC23: 0 | AD23: 73584
B24: Жомбой тумани | C24: 22571 | D24: 2/3 | E24: 8410161 | F24: =G24+I24+K24+M24+O24+R24+U24+W24+Z24+AC24 -> 27 | G24: 5 | H24: 1500 | I24: 3 | J24: 270 | K24: 0 | L24: 0 | M24: 5 | N24: 53 | O24: 4 | P24: 83.1 | Q24: 12 | R24: 5 | S24: 93.1 | T24: 15 | U24: 5 | V24: 9.53 | W24: 0 | X24: 0 | Y24: 0 | Z24: 0 | AA24: 0 | AB24: 0 | AC24: 0 | AD24: 108386
B25: Иштихон тумани | C25: 22323 | D25: 2/4 | E25: 8317754 | F25: =G25+I25+K25+M25+O25+R25+U25+W25+Z25+AC25 -> 30 | G25: 8 | H25: 1170 | I25: 1 | J25: 90 | K25: 1 | L25: 25 | M25: 6 | N25: 70.4 | O25: 2 | P25: 47.2 | Q25: 4 | R25: 6 | S25: 106.8 | T25: 22 | U25: 6 | V25: 8.3 | W25: 0 | X25: 0 | Y25: 0 | Z25: 0 | AA25: 0 | AB25: 0 | AC25: 0 | AD25: 106886
B26: Каттакургон тумани | C26: 24655 | D26: 2/4 | E26: 9186678 | F26: =G26+I26+K26+M26+O26+R26+U26+W26+Z26+AC26 -> 33 | G26: 4 | H26: 420 | I26: 2 | J26: 240 | K26: 2 | L26: 100 | M26: 6 | N26: 79.4 | O26: 5 | P26: 70.3 | Q26: 3 | R26: 6 | S26: 117.1 | T26: 21 | U26: 6 | V26: 7.7 | W26: 2 | X26: 3.7 | Y26: 1 | Z26: 0 | AA26: 0 | AB26: 0 | AC26: 0 | AD26: 118129
B27: Нарпай тумани | C27: 15932 | D27: 1/4 | E27: 5936409 | F27: =G27+I27+K27+M27+O27+R27+U27+W27+Z27+AC27 -> 26 | G27: 4 | H27: 240 | I27: 1 | J27: 90 | K27: 1 | L27: 50 | M27: 5 | N27: 41.37 | O27: 5 | P27: 53 | Q27: 4 | R27: 5 | S27: 59.5 | T27: 20 | U27: 5 | V27: 5.5 | W27: 0 | X27: 0 | Y27: 0 | Z27: 0 | AA27: 0 | AB27: 0 | AC27: 0 | AD27: 75334
B28: Окдарё тумани | C28: 19864 | D28: 1/3 | E28: 7401508 | F28: =G28+I28+K28+M28+O28+R28+U28+W28+Z28+AC28 -> 19 | G28: 1 | H28: 120 | I28: 2 | J28: 180 | K28: 0 | L28: 0 | M28: 4 | N28: 50.77 | O28: 4 | P28: 101.1 | Q28: 16 | R28: 4 | S28: 100.6 | T28: 19 | U28: 4 | V28: 5.2 | W28: 0 | X28: 0 | Y28: 0 | Z28: 0 | AA28: 0 | AB28: 0 | AC28: 0 | AD28: 95344
B29: Пахтачи тумани | C29: 11381 | D29: 1/3 | E29: 4240665 | F29: =G29+I29+K29+M29+O29+R29+U29+W29+Z29+AC29 -> 20 | G29: 2 | H29: 420 | I29: 3 | J29: 360 | K29: 1 | L29: 75 | M29: 4 | N29: 34.3 | O29: 2 | P29: 3.4 | Q29: 0 | R29: 4 | S29: 36.6 | T29: 11 | U29: 4 | V29: 4.9 | W29: 0 | X29: 0 | Y29: 0 | Z29: 0 | AA29: 0 | AB29: 0 | AC29: 0 | AD29: 54204
B30: Самарканд тумани | C30: 27347 | D30: 3/3 | E30: 10189742 | F30: =G30+I30+K30+M30+O30+R30+U30+W30+Z30+AC30 -> 34 | G30: 7 | H30: 2000 | I30: 1 | J30: 90 | K30: 2 | L30: 100 | M30: 6 | N30: 75.1 | O30: 5 | P30: 44.65 | Q30: 15 | R30: 5 | S30: 47 | T30: 19 | U30: 6 | V30: 9.5 | W30: 1 | X30: 1.5 | Y30: 0 | Z30: 0 | AA30: 0 | AB30: 0 | AC30: 1 | AD30: 127014
B31: Тайлок тумани | C31: 13621 | D31: 1/3 | E31: 5075309 | F31: =G31+I31+K31+M31+O31+R31+U31+W31+Z31+AC31 -> 23 | G31: 5 | H31: 1410 | I31: 4 | J31: 330 | K31: 1 | L31: 50 | M31: 3 | N31: 17.9 | O31: 2 | P31: 12 | Q31: 5 | R31: 4 | S31: 45.6 | T31: 12 | U31: 4 | V31: 4 | W31: 0 | X31: 0 | Y31: 0 | Z31: 0 | AA31: 0 | AB31: 0 | AC31: 0 | AD31: 65704
B32: Ургут тумани | C32: 33545 | D32: 2/6 | E32: 12499174 | F32: =G32+I32+K32+M32+O32+R32+U32+W32+Z32+AC32 -> 47 | G32: 9 | H32: 3095 | I32: 3 | J32: 390 | K32: 1 | L32: 25 | M32: 8 | N32: 80.3 | O32: 8 | P32: 111.8 | Q32: 32 | R32: 8 | S32: 107.5 | T32: 35 | U32: 8 | V32: 9.24 | W32: 2 | X32: 3.24 | Y32: 0 | Z32: 0 | AA32: 0 | AB32: 0 | AC32: 0 | AD32: 160914
A34: 1 | B34: Қорақалпоғистон Республикаси | C34: 73947 | D34: Жами 19 та 4 / 15 | E34: 30613542 | G34: 11 | I34: 6 | K34: 3 | M34: 19 | U34: 9 | AA34: 7
B35: Нукус тумани | C35: 25455 | D35: 2 / 6 | E35: 10538196 | G35: 2 | I35: 1 | K35: 2 | M35: 8 | U35: 4 | AA35: 4
B36: Тахиатош тумани | C36: 23628 | D36: 1 / 5 | E36: 9781825.6 | G36: 5 | I36: 3 | M36: 6 | U36: 4 | AA36: 2 | AC36: 1
B37: Амударё тумани | C37: 12668 | D37: 1 / 2 | E37: 5244462.7 | G37: 2 | I37: 2 | M37: 3
B38: Беруний тумани | C38: 12196 | D38: 0 / 2 | E38: 5049058 | G38: 2 | K38: 1 | M38: 2 | U38: 1 | AA38: 1
A39: 2 | B39: Бухоро вилояти | C39: 92628 | D39: Жами 23 та 6 / 17 | E39: 38800088 | G39: 26 | I39: 21 | K39: 7 | M39: 22 | U39: 17 | AA39: 0
B40: Бухоро тумани | C40: 18470 | D40: 1 / 3 | E40: 7646450 | G40: 5 | I40: 5 | K40: 1 | M40: 4 | U40: 4
B41: Когон тумани | C41: 23826 | D41: 2 / 4 | E41: 10316545 | G41: 6 | I41: 4 | K41: 2 | M41: 5 | U41: 3
B42: Вобкент тумани | C42: 20413 | D42: 1 / 4 | E42: 8450838.3 | G42: 6 | I42: 5 | K42: 1 | M42: 5 | U42: 3
B43: Шофиркон тумани | C43: 29919 | D43: 2 / 6 | E43: 12386255 | G43: 9 | I43: 7 | K43: 3 | M43: 8 | U43: 7
A44: 3 | B44: Навоий вилояти | C44: 51184 | D44: Жами 15 та 3 / 12 | E44: 21189816 | G44: 13 | I44: 10 | K44: 6 | M44: 15 | U44: 3 | AA44: 1
B45: Кармана тумани | C45: 25436 | D45: 1 / 6 | E45: 10530325 | G45: 6 | I45: 5 | K45: 4 | M45: 7 | U45: 3 | AA45: 1
B46: Навбаҳор тумани | C46: 25748 | D46: 2 / 6 | E46: 10659491 | G46: 7 | I46: 5 | K46: 2 | M46: 8
A47: 4 | B47: Хоразм вилояти | C47: 74738 | D47: Жами 21 та 5 / 16 | E47: 30941005 | G47: 13 | I47: 6 | K47: 3 | M47: 21 | U47: 13 | AA47: 3
B48: Урганч тумани | C48: 8053 | D48: 1/3 | E48: 3333885 | G48: 1 | I48: 2 | M48: 4 | U48: 3
B49: Хонқа тумани | C49: 42739 | D49: 2/6 | E49: 17693645 | G49: 6 | I49: 1 | K49: 2 | M49: 8 | U49: 7 | AA49: 1
B50: Янгибозор тумани | C50: 23946 | D50: 2/7 | E50: 9913475 | G50: 6 | I50: 3 | K50: 1 | M50: 9 | U50: 3 | AA50: 2

Sheet ИТБ СВОД_батафсил
A1: Ислом тараққиёт банки иштирокида “Қишлоқ жойларни комплекс ривожлантириш” лойиҳаси (2-босқич) учун янги қувват, реконструкция ва мукаммал таъмирлаш режалаштирилган ижтимоий ва инфратузилма объектлари тўғрисида
A2: МАЪЛУМОТ
A4: № | B4: Ҳудудлар номи | C4: Аҳоли сони | D4: МФЙ сони (марказий / ёндош) | E4: Молиялаш тириш миқдори, АҚШ доллари | F4: Объектлар сони | G4: шу жумладан, | AV4: Қиймати (млн.сўм)
G5: Ижтимоий соҳа | AE5: Йўл инфратузилмаси | AG5: Ичимлик сув | AJ5: Электр таъминоти | AM5: Пиёдалар йўлаги, кўча ёритиш тизими билан таъминлаш | AO5: Суғориш тизимини яхшилаш (ирригация тармоқлари ва мелиорация объектлари) | AR5: Кўприк қуриш | AU5: Канализация
G6: Мактаб | O6: Мактабгача таълим ташкилоти | W6: Тиббиёт муассасаси
G7: Умумий | I7: Янги қурилиш | K7: Реконструкция | M7: Мукаммал таъмир | O7: Умумий | Q7: Янги қурилиш | S7: Реконструкция | U7: Мукаммал таъмир | W7: Умумий | Y7: Янги қурилиш | AA7: Реконструкция | AC7: Мукаммал таъмир
G8: сони | H8: қуввати (ўқув ўрни) | I8: сони | J8: қуввати (ўқув ўрни) | K8: сони | L8: қуввати (ўқув ўрни) | M8: сони | N8: қуввати (ўқув ўрни) | O8: сони | P8: қуввати (ўқув ўрни) | Q8: сони | R8: қуввати (ўқув ўрни) | S8: сони | T8: қуввати (ўқув ўрни) | U8: сони | V8: қуввати (ўқув ўрни) | W8: сони | X8: қуввати (қатнов) | Y8: сони | Z8: қуввати (қатнов) | AA8: сони | AB8: қуввати (қатнов) | AC8: сони | AD8: қуввати (қатнов) | AE8: сони | AF8: км | AG8: сони | AH8: км | AI8: сув объекти (сув иншооти ва артезиан) | AJ8: сони | AK8: км | AL8: ТП | AM8: сони | AN8: км | AO8: сони | AP8: км | AQ8: Артезиан/насос станция (сони) | AR8: сони | AS8: Янги | AT8: Реконструкция | AU8: сони
B9: ЖАМИ | C9: =C10+C16+C23 -> 622631 | D9: ЖАМИ 157 та 41 / 116 | E9: =SUM(E10,E16,E23) -> 232000000 | F9: =SUM(F10,F16,F23) -> 779 | G9: =SUM(G10,G16,G23) -> 104 | H9: =SUM(H10,H16,H23) -> 32298 | I9: =SUM(I10,I16,I23) -> 7 | J9: =SUM(J10,J16,J23) -> 2090 | K9: =SUM(K10,K16,K23) -> 84 | L9: =SUM(L10,L16,L23) -> 22188 | ... AH9: =SUM(AH10,AH16,AH23) -> 1673.34 | AI9: =AI10+AI16+AI23 -> 171 | AJ9: =SUM(AJ10,AJ16,AJ23) -> 138 | AK9: =SUM(AK10,AK16,AK23) -> 2082.86 | AL9: =SUM(AL10,AL16,AL23) -> 525 | AM9: =SUM(AM10,AM16,AM23) -> 166 | AN9: =SUM(AN10,AN16,AN23) -> 280.21 | AO9: =SUM(AO10,AO16,AO23) -> 39 | AP9: =SUM(AP10,AP16,AP23) -> 123.14 | AQ9: =AQ10+AQ16+AQ23 -> 33 | AR9: =AR10+AR16+AR23 -> 17 | AS9: =SUM(AS10,AS16,AS23) -> 18 | AT9: =AT10+AT16+AT23 -> 7 | AU9: =SUM(AU10,AU16,AU23) -> 2 | AV9: =SUM(AV10,AV16,AV23) -> 2976217.1
A10: 1 | B10: Сурхондарё вилояти | C10: =SUM(C11:C15) -> 232499 | D10: Жами 60 та 14 / 46 | E10: =SUM(E11:E15) -> 86633252 | F10: =SUM(F11:F15) -> 278 | G10: =SUM(G11:G15) -> 31 | H10: =SUM(H11:H15) -> 14505 | I10: =SUM(I11:I15) -> 2 | J10: =SUM(J11:J15) -> 660 | K10: =SUM(K11:K15) -> 27 | L10: =SUM(L11:L15) -> 12858 | ... AG10: =SUM(AG11:AG15) -> 34 | AH10: =+AH11+AH12+AH13+AH14+AH15 -> 635.14 | AI10: =SUM(AI11:AI15) -> 32 | AJ10: =SUM(AJ11:AJ15) -> 49 | AK10: =SUM(AK11:AK15) -> 721.9 | AL10: =SUM(AL11:AL15) -> 185 | AM10: =SUM(AM11:AM15) -> 60 | AN10: =SUM(AN11:AN15) -> 85.8 | AO10: =+AO11+AO12+AO13+AO14+AO15 -> 18 | AP10: =+AP11+AP12+AP13+AP14+AP15 -> 61.8 | AQ10: =+AQ11+AQ12+AQ13+AQ14+AQ15 -> 4 | AR10: =SUM(AR11:AR15) -> 13 | AS10: =SUM(AS11:AS15) -> 16 | AT10: =SUM(AT11:AT15) -> 5 | AU10: =SUM(AU11:AU15) -> 0 | AV10: =SUM(AV11:AV15) -> 1112375.1
B11: Ангор тумани | C11: 32406 | D11: 2 / 7 | E11: 12074772 | F11: =G11+O11+W11+AE11+AG11+AJ11+AM11+AO11+AR11+AU11 -> 38 | G11: =+I11+K11+M11 -> 4 | H11: =+J11+L11+N11 -> 2390 | I11: 0 | J11: 0 | K11: 4 | L11: 2390 | M11: 0 | N11: 0 | O11: =+Q11+S11+U11 -> 2 | P11: =+R11+T11+V11 -> 180 | Q11: 2 | R11: 180 | S11: 0 | T11: 0 | U11: 0 | V11: 0 | W11: 0 | X11: 0 | Y11: 0 | Z11: 0 | AA11: 0 | AB11: 0 | AC11: 0 | AD11: 0 | AE11: 9 | AF11: =+Руйхат!J9+Руйхат!J16+Руйхат!J21+Руйхат!J30+Руйхат!J36+Руйхат!J41+Руйхат!J50+Руйхат!J54+Руйхат!J62 -> 94.31 | AG11: 7 | AH11: 120.4 | AI11: 9 | AJ11: 6 | AK11: 74.4 | AL11: 19 | AM11: 9 | AN11: 11 | AO11: 0 | AP11: 0 | AQ11: 0 | AR11: =+AS11+AT11 -> 1 | AS11: 0 | AT11: 1 | AU11: 0 | AV11: 153291
B12: Бoйсун тумани | C12: 28208 | D12: 2 / 7 | E12: 10510559 | F12: =G12+O12+W12+AE12+AG12+AJ12+AM12+AO12+AR12+AU12 -> 44 | G12: =+I12+K12+M12 -> 3 | H12: =+J12+L12+N12 -> 1160 | I12: 0 | J12: 0 | K12: 3 | L12: 1160 | M12: 0 | N12: 0 | O12: =+Q12+S12+U12 -> 3 | P12: =+R12+T12+V12 -> 360 | Q12: 3 | R12: 360 | S12: 0 | T12: 0 | U12: 0 | V12: 0 | W12: 1 | X12: 50 | Y12: 0 | Z12: 0 | AA12: 0 | AB12: 50 | AC12: 1 | AD12: 50 | AE12: 7 | AF12: =+Руйхат!J72+Руйхат!J82+Руйхат!J87+Руйхат!J96+Руйхат!J102+Руйхат!J111+Руйхат!J115 -> 85.71 | AG12: 6 | AH12: 67.5 | AI12: 6 | AJ12: 7 | AK12: 88.5 | AL12: 21 | AM12: 9 | AN12: 10 | AO12: 4 | AP12: 13.4 | AQ12: 0 | AR12: =+AS12+AT12 -> 4 | AS12: 4 | AT12: 0 | AU12: 0 | AV12: 136767.5
B13: Термиз тумани | C13: 16996 | D13: 1 / 4 | E13: 6334865 | F13: =G13+O13+W13+AE13+AG13+AJ13+AM13+AO13+AR13+AU13 -> 25 | G13: =+I13+K13+M13 -> 3 | H13: =+J13+L13+N13 -> 1970 | I13: 0 | J13: 0 | K13: 3 | L13: 1970 | M13: 0 | N13: 0 | O13: =+Q13+S13+U13 -> 0 | P13: =+R13+T13+V13 -> 0 | Q13: 0 | R13: 0 | S13: 0 | T13: 0 | U13: 0 | V13: 0 | W13: 0 | X13: 0 | Y13: 0 | Z13: 0 | AA13: 0 | AB13: 0 | AC13: 0 | AD13: 0 | AE13: 5 | AF13: =+Руйхат!J135+Руйхат!J142+Руйхат!J147+Руйхат!J154+Руйхат!J161 -> 47.25 | AG13: 5 | AH13: 72.62 | AI13: 2 | AJ13: 4 | AK13: 51.1 | AL13: 15 | AM13: 5 | AN13: 8 | AO13: 2 | AP13: 4.5 | AQ13: 1 | AR13: =+AS13+AT13 -> 1 | AS13: 1 | AT13: 0 | AU13: 0 | AV13: 82142.4
B14: Шеробод тумани | C14: 93272 | D14: 5 / 17 | E14: 34753999 | F14: =G14+O14+W14+AE14+AG14+AJ14+AM14+AO14+AR14+AU14 -> 103 | G14: =+I14+K14+M14 -> 12 | H14: =+J14+L14+N14 -> 5007 | I14: 2 | J14: 660 | K14: 10 | L14: 4347 | M14: 0 | N14: 0 | O14: =+Q14+S14+U14 -> 6 | P14: =+R14+T14+V14 -> 540 | Q14: 6 | R14: =6*90 -> 540 | S14: 0 | T14: 0 | U14: 0 | V14: 0 | W14: 1 | X14: 50 | Y14: 0 | Z14: 0 | AA14: 1 | AB14: 50 | AC14: 0 | AD14: 0 | AE14: 19 | AF14: =+Руйхат!J180+Руйхат!J198+Руйхат!J209+Руйхат!J217+Руйхат!J223+Руйхат!J230+Руйхат!J235+Руйхат!J242+Руйхат!J250+Руйхат!J259+Руйхат!J264+Руйхат!J273+Руйхат!J278+Руйхат!J285+Руйхат!J292+Руйхат!J298+Руйхат!J304+Руйхат!J313+Руйхат!J317 -> 217.225 | AG14: 13 | AH14: 308.02 | AI14: 14 | AJ14: 18 | AK14: 228.3 | AL14: 72 | AM14: 22 | AN14: 30 | AO14: 7 | AP14: 28.4 | AQ14: 1 | AR14: 5 | AS14: 8 | AT14: 1 | AU14: 0 | AV14: 441109.9
B15: Музработ тумани | C15: 61617 | D15: 4 / 11 | E15: 22959057 | F15: =G15+O15+W15+AE15+AG15+AJ15+AM15+AO15+AR15+AU15 -> 68 | G15: =+I15+K15+M15 -> 9 | H15: =+J15+L15+N15 -> 3978 | I15: 0 | J15: 0 | K15: 7 | L15: 2991 | M15: 2 | N15: =507+480 -> 987 | O15: =+Q15+S15+U15 -> 5 | P15: =+R15+T15+V15 -> 390 | Q15: 5 | R15: =90*3+120 -> 390 | S15: 0 | T15: 0 | U15: 0 | V15: 0 | W15: 0 | X15: 0 | Y15: 0 | Z15: 0 | AA15: 0 | AB15: 0 | AC15: 0 | AD15: 0 | AE15: 15 | AF15: =+Руйхат!J325+Руйхат!J330+Руйхат!J336+Руйхат!J345+Руйхат!J350+Руйхат!J358+Руйхат!J365+Руйхат!J375+Руйхат!J381+Руйхат!J386+Руйхат!J395+Руйхат!J401+Руйхат!J405+Руйхат!J412+Руйхат!J418 -> 232.655 | AG15: 3 | AH15: 66.6 | AI15: 1 | AJ15: 14 | AK15: 279.6 | AL15: 58 | AM15: 15 | AN15: 26.8 | AO15: 5 | AP15: 15.5 | AQ15: 2 | AR15: 2 | AS15: 3 | AT15: 3 | AU15: 0 | AV15: 299064.3
A16: 2 | B16: Қашқадарё вилояти | C16: =SUM(C17:C22) -> 183090 | D16: Жами 45 та 11 / 34 | E16: =SUM(E17:E22) -> 68221006 | F16: =G16+O16+W16+AE16+AG16+AJ16+AM16+AO16+AR16+AU16 -> 222 | G16: =SUM(G17:G22) -> 26 | H16: =SUM(H17:H22) -> 7298 | I16: =SUM(I17:I22) -> 4 | J16: =SUM(J17:J22) -> 1100 | K16: =SUM(K17:K22) -> 17 | L16: =SUM(L17:L22) -> 3550 | M16: =SUM(M17:M22) -> 5 | N16: =SUM(N17:N22) -> 2648 | ... AH16: =SUM(AH17:AH22) -> 451.05 | AI16: 31 | AJ16: =SUM(AJ17:AJ22) -> 38 | AK16: =SUM(AK17:AK22) -> 580.56 | AL16: =SUM(AL17:AL22) -> 150 | AM16: =SUM(AM17:AM22) -> 54 | AN16: =SUM(AN17:AN22) -> 123.64 | AO16: =SUM(AO17:AO22) -> 16 | AP16: =SUM(AP17:AP22) -> 52.9 | AQ16: =SUM(AQ17:AQ22) -> 28 | ... AV16: =SUM(AV17:AV22) -> 878343
B17: Китоб тумани | C17: 31190 | D17: 2 / 6 | E17: 11621679 | F17: =G17+O17+W17+AE17+AG17+AJ17+AM17+AO17+AR17+AU17 -> 40 | G17: =SUM(I17,K17,M17) -> 4 | H17: 1100 | I17: 0 | J17: 0 | K17: 3 | L17: 640 | M17: 1 | N17: 460 | O17: 1 | P17: 90 | Q17: 1 | R17: 90 | S17: 0 | T17: 0 | U17: 0 | V17: 0 | W17: 0 | X17: 0 | Y17: 0 | Z17: 0 | AA17: 0 | AB17: 0 | AC17: 0 | AD17: 0 | AE17: 8 | AF17: 96.34 | AG17: 6 | AH17: 95.5 | AI17: 16 | AJ17: 8 | AK17: 128.66 | AL17: 41 | AM17: 9 | AN17: 13.5 | AO17: 3 | AP17: 7 | AQ17: 3 | AR17: 1 | AS17: 0 | AT17: 1 | AU17: 0 | AV17: 150477
B18: Шаҳрисабз тумани | C18: 29117 | D18: 2 / 4 | E18: 10849260 | F18: =G18+O18+W18+AE18+AG18+AJ18+AM18+AO18+AR18+AU18 -> 31 | G18: =SUM(I18,K18,M18) -> 3 | H18: 1460 | I18: 1 | J18: 330 | K18: 2 | L18: 1130 | M18: 0 | N18: 0 | O18: 1 | P18: 90 | Q18: 1 | R18: 90 | S18: 0 | T18: 0 | U18: 0 | V18: 0 | W18: 2 | X18: 100 | Y18: 0 | Z18: 0 | AA18: 1 | AB18: 50 | AC18: 1 | AD18: 50 | AE18: 5 | AF18: 74.7 | AG18: 4 | AH18: 69.65 | AI18: 8 | AJ18: 5 | AK18: 43.3 | AL18: 23 | AM18: 7 | AN18: 16.2 | AO18: 3 | AP18: 24 | AQ18: 7 | AR18: 0 | AS18: 0 | AT18: 0 | AU18: 1 | AV18: 139885
B19: Яккабоғ тумани | C19: 35707 | D19: 2 / 7 | E19: 13304754 | F19: =G19+O19+W19+AE19+AG19+AJ19+AM19+AO19+AR19+AU19 -> 46 | G19: =SUM(I19,K19,M19) -> 9 | H19: 1734 | I19: 1 | J19: 220 | K19: 6 | L19: 570 | M19: 2 | N19: 944 | O19: 4 | P19: 390 | Q19: 4 | R19: 390 | S19: 0 | T19: 0 | U19: 0 | V19: 0 | W19: 2 | X19: 150 | Y19: 0 | Z19: 0 | AA19: 1 | AB19: 100 | AC19: 1 | AD19: 50 | AE19: 9 | AF19: 96.3 | AG19: 4 | AH19: 61.9 | AI19: 6 | AJ19: 8 | AK19: 149.3 | AL19: 33 | AM19: 10 | AN19: 26.33 | AO19: 0 | AP19: 0 | AQ19: 0 | AR19: 0 | AS19: 0 | AT19: 0 | AU19: 0 | AV19: 170983
B20: Ғузор тумани | C20: 27876 | D20: 2 / 5 | E20: 10386852 | F20: =G20+O20+W20+AE20+AG20+AJ20+AM20+AO20+AR20+AU20 -> 38 | G20: =SUM(I20,K20,M20) -> 2 | H20: 1324 | I20: 0 | J20: 0 | K20: 1 | L20: 700 | M20: 1 | N20: 624 | O20: 1 | P20: 90 | Q20: 1 | R20: 90 | S20: 0 | T20: 0 | U20: 0 | V20: 0 | W20: 0 | X20: 0 | Y20: 0 | Z20: 0 | AA20: 0 | AB20: 0 | AC20: 0 | AD20: 0 | AE20: 7 | AF20: 90.31 | AG20: 6 | AH20: 102.7 | AI20: 0 | AJ20: 6 | AK20: 89.7 | AL20: 19 | AM20: 10 | AN20: 23.14 | AO20: 5 | AP20: 7.7 | AQ20: 12 | AR20: 1 | AS20: 0 | AT20: 1 | AU20: 0 | AV20: 133355
B21: Деҳқонобод тумани | C21: 22395 | D21: 1 / 5 | E21: 8344582 | F21: =G21+O21+W21+AE21+AG21+AJ21+AM21+AO21+AR21+AU21 -> 31 | G21: =SUM(I21,K21,M21) -> 2 | H21: 180 | I21: 0 | J21: 0 | K21: 2 | L21: 180 | M21: 0 | N21: 0 | O21: 3 | P21: 300 | Q21: 3 | R21: 300 | S21: 0 | T21: 0 | U21: 0 | V21: 0 | W21: 0 | X21: 0 | Y21: 0 | Z21: 0 | AA21: 0 | AB21: 0 | AC21: 0 | AD21: 0 | AE21: 6 | AF21: 79.5 | AG21: 0 | AH21: 0 | AI21: 0 | AJ21: 5 | AK21: 58.6 | AL21: 15 | AM21: 9 | AN21: 26.47 | AO21: 4 | AP21: 9.2 | AQ21: 3 | AR21: 2 | AS21: 2 | AT21: 0 | AU21: 0 | AV21: 106725
B22: Қамаши тумани | C22: 36805 | D22: 2 / 7 | E22: 13713879 | F22: =G22+O22+W22+AE22+AG22+AJ22+AM22+AO22+AR22+AU22 -> 36 | G22: =SUM(I22,K22,M22) -> 6 | H22: 1500 | I22: 2 | J22: 550 | K22: 3 | L22: 330 | M22: 1 | N22: 620 | O22: 1 | P22: 90 | Q22: 1 | R22: 90 | S22: 0 | T22: 0 | U22: 0 | V22: 0 | W22: 0 | X22: 0 | Y22: 0 | Z22: 0 | AA22: 0 | AB22: 0 | AC22: 0 | AD22: 0 | AE22: 8 | AF22: 119.4 | AG22: 5 | AH22: 121.3 | AI22: 1 | AJ22: 6 | AK22: 111 | AL22: 19 | AM22: 9 | AN22: 18 | AO22: 1 | AP22: 5 | AQ22: 3 | AR22: 0 | AS22: 0 | AT22: 0 | AU22: 0 | AV22: 176918
A23: 3 | B23: Самарканд вилояти | C23: =SUM(C24:C33) -> 207042 | D23: Жами 52 та 16 / 36 | E23: =SUM(E24:E33) -> 77145742 | F23: =G23+O23+W23+AE23+AG23+AJ23+AM23+AO23+AR23+AU23 -> 279 | G23: =SUM(I23,K23,M23) -> 47 | H23: =H24+H25+H26+H27+H28+H29+H30+H31+H32+H33 -> 10495 | I23: =SUM(I24:I33) -> 1 | J23: =SUM(J24:J33) -> 330 | K23: =SUM(K24:K33) -> 40 | L23: =SUM(L24:L33) -> 5780 | M23: =SUM(M24:M33) -> 6 | N23: =SUM(N24:N33) -> 4385 | O23: =SUM(O24:O33) -> 21 | P23: =R23+T23 -> 2160 | Q23: =SUM(Q24:Q33) -> 12 | R23: =SUM(R24:R33) -> 1140 | S23: =SUM(S24:S33) -> 9 | T23: =SUM(T24:T33) -> 1020 | U23: =SUM(U24:U33) -> 0 | V23: =SUM(V24:V33) -> 0 | W23: =SUM(W24:W33) -> 10 | X23: =SUM(X24:X33) -> 525 | ... AP23: =SUM(AP24:AP33) -> 8.44 | AQ23: 1 | AR23: =SUM(AR24:AR33) -> 0 | AS23: =SUM(AS24:AS33) -> 0 | AT23: =SUM(AT24:AT33) -> 0 | AU23: =SUM(AU24:AU33) -> 1 | AV23: =SUM(AV24:AV33) -> 985499
B24: Булунгур тумани | C24: 15803 | D24: 1/3 | E24: 5888342 | F24: =G24+O24+W24+AE24+AG24+AJ24+AM24+AO24+AR24+AU24 -> 20 | G24: =SUM(I24,K24,M24) -> 2 | H24: 120 | I24: 0 | J24: 0 | K24: 2 | L24: 120 | M24: 0 | N24: 0 | O24: 1 | P24: 120 | Q24: 0 | R24: 0 | S24: 1 | T24: 120 | U24: 0 | V24: 0 | W24: 1 | X24: 100 | Y24: 0 | Z24: 0 | AA24: 1 | AB24: 100 | AC24: 0 | AD24: 0 | AE24: 4 | AF24: 37.5 | AG24: 4 | AH24: 60.6 | AI24: 17 | AJ24: 4 | AK24: 66.6 | AL24: 16 | AM24: 4 | AN24: 6.9 | AO24: 0 | AP24: 0 | AQ24: 0 | AR24: 0 | AS24: 0 | AT24: 0 | AU24: 0 | AV24: 73584
B25: Жомбой тумани | C25: 22571 | D25: 2/3 | E25: 8410161 | F25: =G25+O25+W25+AE25+AG25+AJ25+AM25+AO25+AR25+AU25 -> 27 | G25: =SUM(I25,K25,M25) -> 5 | H25: =L25+N25 -> 1500 | I25: 0 | J25: 0 | K25: 4 | L25: 540 | M25: 1 | N25: 960 | O25: 3 | P25: 270 | Q25: 3 | R25: 270 | S25: 0 | T25: 0 | U25: 0 | V25: 0 | W25: 0 | X25: 0 | Y25: 0 | Z25: 0 | AA25: 0 | AB25: 0 | AC25: 0 | AD25: 0 | AE25: 5 | AF25: 53 | AG25: 4 | AH25: 83.1 | AI25: 12 | AJ25: 5 | AK25: 93.1 | AL25: 15 | AM25: 5 | AN25: 9.53 | AO25: 0 | AP25: 0 | AQ25: 0 | AR25: 0 | AS25: 0 | AT25: 0 | AU25: 0 | AV25: 108386
B26: Иштихон тумани | C26: 22323 | D26: 2/4 | E26: 8317754 | F26: =G26+O26+W26+AE26+AG26+AJ26+AM26+AO26+AR26+AU26 -> 30 | G26: =SUM(I26,K26,M26) -> 8 | H26: =J26+L26 -> 1170 | I26: 0 | J26: 0 | K26: 8 | L26: 1170 | M26: 0 | N26: 0 | O26: 1 | P26: 90 | Q26: 0 | R26: 0 | S26: 1 | T26: 90 | U26: 0 | V26: 0 | W26: 1 | X26: 25 | Y26: 0 | Z26: 0 | AA26: 1 | AB26: 25 | AC26: 0 | AD26: 0 | AE26: 6 | AF26: 70.4 | AG26: 2 | AH26: 47.2 | AI26: 4 | AJ26: 6 | AK26: 106.8 | AL26: 22 | AM26: 6 | AN26: 8.3 | AO26: 0 | AP26: 0 | AQ26: 0 | AR26: 0 | AS26: 0 | AT26: 0 | AU26: 0 | AV26: 106886
B27: Каттакургон тумани | C27: 24655 | D27: 2/4 | E27: 9186678 | F27: =G27+O27+W27+AE27+AG27+AJ27+AM27+AO27+AR27+AU27 -> 33 | G27: =SUM(I27,K27,M27) -> 4 | H27: 420 | I27: 0 | J27: 0 | K27: 4 | L27: 420 | M27: 0 | N27: 0 | O27: 2 | P27: =R27+T27 -> 240 | Q27: 1 | R27: 150 | S27: 1 | T27: 90 | U27: 0 | V27: 0 | W27: 2 | X27: 100 | Y27: 0 | Z27: 0 | AA27: 2 | AB27: 100 | AC27: 0 | AD27: 0 | AE27: 6 | AF27: 79.4 | AG27: 5 | AH27: 70.3 | AI27: 3 | AJ27: 6 | AK27: 117.1 | AL27: 21 | AM27: 6 | AN27: 7.7 | AO27: 2 | AP27: 3.7 | AQ27: 1 | AR27: 0 | AS27: 0 | AT27: 0 | AU27: 0 | AV27: 118129
B28: Нарпай тумани | C28: 15932 | D28: 1/4 | E28: 5936409 | F28: =G28+O28+W28+AE28+AG28+AJ28+AM28+AO28+AR28+AU28 -> 26 | G28: =SUM(I28,K28,M28) -> 4 | H28: =L28 -> 240 | I28: 0 | J28: 0 | K28: 4 | L28: 240 | M28: 0 | N28: 0 | O28: 1 | P28: 90 | Q28: 0 | R28: 0 | S28: 1 | T28: 90 | U28: 0 | V28: 0 | W28: 1 | X28: 50 | Y28: 0 | Z28: 0 | AA28: 0 | AB28: 0 | AC28: 1 | AD28: 50 | AE28: 5 | AF28: 41.37 | AG28: 5 | AH28: 53 | AI28: 4 | AJ28: 5 | AK28: 59.5 | AL28: 20 | AM28: 5 | AN28: 5.5 | AO28: 0 | AP28: 0 | AQ28: 0 | AR28: 0 | AS28: 0 | AT28: 0 | AU28: 0 | AV28: 75334
B29: Окдарё тумани | C29: 19864 | D29: 1/3 | E29: 7401508 | F29: =G29+O29+W29+AE29+AG29+AJ29+AM29+AO29+AR29+AU29 -> 19 | G29: =SUM(I29,K29,M29) -> 1 | H29: 120 | I29: 0 | J29: 0 | K29: 1 | L29: 120 | M29: 0 | N29: 0 | O29: 2 | P29: =R29+T29 -> 180 | Q29: 1 | R29: 90 | S29: 1 | T29: 90 | U29: 0 | V29: 0 | W29: 0 | X29: 0 | Y29: 0 | Z29: 0 | AA29: 0 | AB29: 0 | AC29: 0 | AD29: 0 | AE29: 4 | AF29: 50.77 | AG29: 4 | AH29: 101.1 | AI29: 16 | AJ29: 4 | AK29: 100.6 | AL29: 19 | AM29: 4 | AN29: 5.2 | AO29: 0 | AP29: 0 | AQ29: 0 | AR29: 0 | AS29: 0 | AT29: 0 | AU29: 0 | AV29: 95344
B30: Пахтачи тумани | C30: 11381 | D30: 1/3 | E30: 4240665 | F30: =G30+O30+W30+AE30+AG30+AJ30+AM30+AO30+AR30+AU30 -> 20 | G30: =SUM(I30,K30,M30) -> 2 | H30: 420 | I30: 0 | J30: 0 | K30: 1 | L30: 0 | M30: 1 | N30: 420 | O30: 3 | P30: 360 | Q30: 1 | R30: 90 | S30: 2 | T30: 270 | U30: 0 | V30: 0 | W30: 1 | X30: 75 | Y30: 0 | Z30: 0 | AA30: 1 | AB30: 75 | AC30: 0 | AD30: 0 | AE30: 4 | AF30: 34.3 | AG30: 2 | AH30: 3.4 | AI30: 0 | AJ30: 4 | AK30: 36.6 | AL30: 11 | AM30: 4 | AN30: 4.9 | AO30: 0 | AP30: 0 | AQ30: 0 | AR30: 0 | AS30: 0 | AT30: 0 | AU30: 0 | AV30: 54204
B31: Самарканд тумани | C31: 27347 | D31: 3/3 | E31: 10189742 | F31: =G31+O31+W31+AE31+AG31+AJ31+AM31+AO31+AR31+AU31 -> 34 | G31: =I31+K31+M31 -> 7 | H31: =J31+L31 -> 2000 | I31: 1 | J31: 330 | K31: 6 | L31: 1670 | M31: 0 | N31: 0 | O31: 1 | P31: 90 | Q31: 1 | R31: 90 | S31: 0 | T31: 0 | U31: 0 | V31: 0 | W31: 2 | X31: 100 | Y31: 0 | Z31: 0 | AA31: 1 | AB31: 50 | AC31: 1 | AD31: 50 | AE31: 6 | AF31: 75.1 | AG31: 5 | AH31: 44.65 | AI31: 15 | AJ31: 5 | AK31: 47 | AL31: 19 | AM31: 6 | AN31: 9.5 | AO31: 1 | AP31: 1.5 | AQ31: 0 | AR31: 0 | AS31: 0 | AT31: 0 | AU31: 1 | AV31: 127014
B32: Тайлок тумани | C32: 13621 | D32: 1/3 | E32: 5075309 | F32: =G32+O32+W32+AE32+AG32+AJ32+AM32+AO32+AR32+AU32 -> 23 | G32: =I32+K32+M32 -> 5 | H32: =L32+N32 -> 1410 | I32: 0 | J32: 0 | K32: 4 | L32: 600 | M32: 1 | N32: 810 | O32: 4 | P32: =R32+T32 -> 330 | Q32: 3 | R32: 270 | S32: 1 | T32: 60 | U32: 0 | V32: 0 | W32: 1 | X32: 50 | Y32: 0 | Z32: 0 | AA32: 1 | AB32: 50 | AC32: 0 | AD32: 0 | AE32: 3 | AF32: 17.9 | AG32: 2 | AH32: 12 | AI32: 5 | AJ32: 4 | AK32: 45.6 | AL32: 12 | AM32: 4 | AN32: 4 | AO32: 0 | AP32: 0 | AQ32: 0 | AR32: 0 | AS32: 0 | AT32: 0 | AU32: 0 | AV32: 65704
B33: Ургут тумани | C33: 33545 | D33: 2/6 | E33: 12499174 | F33: =G33+O33+W33+AE33+AG33+AJ33+AM33+AO33+AR33+AU33 -> 47 | G33: =I33+K33+M33 -> 9 | H33: =L33+N33 -> 3095 | I33: 0 | J33: 0 | K33: 6 | L33: 900 | M33: 3 | N33: 2195 | O33: 3 | P33: =R33+T33 -> 390 | Q33: 2 | R33: 180 | S33: 1 | T33: 210 | U33: 0 | V33: 0 | W33: 1 | X33: 25 | Y33: 0 | Z33: 0 | AA33: 1 | AB33: 25 | AC33: 0 | AD33: 0 | AE33: 8 | AF33: 80.3 | AG33: 8 | AH33: 111.8 | AI33: 32 | AJ33: 8 | AK33: 107.5 | AL33: 35 | AM33: 8 | AN33: 9.24 | AO33: 2 | AP33: 3.24 | AQ33: 0 | AR33: 0 | AS33: 0 | AT33: 0 | AU33: 0 | AV33: 160914
G34: 11 | O34: 6 | W34: 3
A35: 1 | B35: Қорақалпоғистон Республикаси | C35: 73947 | D35: Жами 19 та 4 / 15 | E35: 30613542 | G35: 2 | O35: 1 | W35: 2 | AE35: 19 | AM35: 9 | AS35: 7
B36: Нукус тумани | C36: 25455 | D36: 2 / 6 | E36: 10538196 | G36: 5 | O36: 3 | AE36: 8 | AM36: 4 | AS36: 4
B37: Тахиатош тумани | C37: 23628 | D37: 1 / 5 | E37: 9781825.6 | G37: 2 | O37: 2 | AE37: 6 | AM37: 4 | AS37: 2 | AU37: 1
B38: Амударё тумани | C38: 12668 | D38: 1 / 2 | E38: 5244462.7 | G38: 2 | W38: 1 | AE38: 3
B39: Беруний тумани | C39: 12196 | D39: 0 / 2 | E39: 5049058 | G39: 26 | O39: 21 | W39: 7 | AE39: 2 | AM39: 1 | AS39: 1
A40: 2 | B40: Бухоро вилояти | C40: 92628 | D40: Жами 23 та 6 / 17 | E40: 38800088 | G40: 5 | O40: 5 | W40: 1 | AE40: 22 | AM40: 17 | AS40: 0
B41: Бухоро тумани | C41: 18470 | D41: 1 / 3 | E41: 7646450 | G41: 6 | O41: 4 | W41: 2 | AE41: 4 | AM41: 4
B42: Когон тумани | C42: 23826 | D42: 2 / 4 | E42: 10316545 | G42: 6 | O42: 5 | W42: 1 | AE42: 5 | AM42: 3
B43: Вобкент тумани | C43: 20413 | D43: 1 / 4 | E43: 8450838.3 | G43: 9 | O43: 7 | W43: 3 | AE43: 5 | AM43: 3
B44: Шофиркон тумани | C44: 29919 | D44: 2 / 6 | E44: 12386255 | G44: 13 | O44: 10 | W44: 6 | AE44: 8 | AM44: 7
A45: 3 | B45: Навоий вилояти | C45: 51184 | D45: Жами 15 та 3 / 12 | E45: 21189816 | G45: 6 | O45: 5 | W45: 4 | AE45: 15 | AM45: 3 | AS45: 1
B46: Кармана тумани | C46: 25436 | D46: 1 / 6 | E46: 10530325 | G46: 7 | O46: 5 | W46: 2 | AE46: 7 | AM46: 3 | AS46: 1
B47: Навбаҳор тумани | C47: 25748 | D47: 2 / 6 | E47: 10659491 | G47: 13 | O47: 6 | W47: 3 | AE47: 8
A48: 4 | B48: Хоразм вилояти | C48: 74738 | D48: Жами 21 та 5 / 16 | E48: 30941005 | G48: 1 | O48: 2 | AE48: 21 | AM48: 13 | AS48: 3
B49: Урганч тумани | C49: 8053 | D49: 1/3 | E49: 3333885 | G49: 6 | O49: 1 | W49: 2 | AE49: 4 | AM49: 3
B50: Хонқа тумани | C50: 42739 | D50: 2/6 | E50: 17693645 | G50: 6 | O50: 3 | W50: 1 | AE50: 8 | AM50: 7 | AS50: 1
B51: Янгибозор тумани | C51: 23946 | D51: 2/7 | E51: 9913475 | AE51: 9 | AM51: 3 | AS51: 2

Sheet Руйхат
A2: Ислом тараққиёт банки иштирокида “Қишлоқ жойларни комплекс ривожлантириш” (2-босқич) лойиҳаси доирасида амалга оширилаётган сублойиҳалар тўғрисида МАЪЛУМОТ
A3: Т/р | B3: Ҳудуд номи | D3: Аҳоли сони, нафар | E3: Молиялаштириш миқдори, АҚШ доллари | F3: Объектлар сони | G3: Дастлабки манзилли рўйхат | L3: CDP асосида танланган устувор сублойиҳалар рақами
B4: Туман номи | C4: Қишлоқ номи | G4: Объект номи | H4: Йўналиши | I4: Ўлчов бирлиги | J4: Қуввати | K4: Маблағ, млн. сўмда
A5: =+A7+A428+A825 -> 157 | B5: ЖАМИ | D5: =+D7+D428+D825 -> 415589 | E5: =+E7+E428+E825 -> 2.32e+08 | F5: =+F7+F428+F825 -> 779 | K5: =+K7+K428+K825 -> 2981923.1
B6: Сурхондарё вилояти
A7: =+A8+A67+A132+A170+A324 -> 60 | B7: Сурхондарё вилояти | D7: =+D8+D67+D132+D170+D324 -> 232499 | E7: =+E8+E67+E132+E170+E324 -> 86633252 | F7: =+F8+F67+F132+F170+F324 -> 278 | K7: =+K8+K67+K132+K170+K324 -> 1118081.1
A8: =+A62 -> 9 | B8: Ангор тумани | D8: =+D9+D16+D21+D28+D35+D41+D49+D54+D62 -> 32406 | E8: =+E9+E16+E21+E28+E35+E41+E49+E54+E62 -> 12074772 | F8: =+F15+F20+F27+F34+F40+F48+F53+F61+F66 -> 38 | K8: =+K15+K20+K27+K34+K40+K48+K53+K61+K66 -> 155301
A9: 1 | B9: Ангор тумани | C9: Гиламбоб МФЙ | D9: 4761 | E9: 1773992.1 | G9: Ички йўлларни таъмирлаш. (Жами 14,4 км ички кўчаларни асфалтлаш) | H9: Мукаммал таъмирлаш | I9: км | J9: 14.4 | K9: =+J9*700 -> 10080 | L9: 1 | M9: йул
G10: Тоза ичимлик суви таъминотини яхшилаш (Мавжуд 2 та 250 м3 (500М3) сиғимли сувни сақлаш ва тарқатиш иншооти реконструкция қилиш Жами 26,9 км сув тармоғи) | H10: Реконструкция | I10: Объект | J10: 2 | K10: =500+300 -> 800 | L10: 2 | M10: сув объект
H11: Янги қурилиш | I11: км | J11: 26.9 | K11: =+J11*320 -> 8608 | M11: сув км
G12: Электр таъминотини яхшилаш. ( Жами 18,4 км электр тармоғи шундан 16,9 км 04 ква хамда 1,5 км 10 ква. ТП 4 дона янги 250 КВА лик трансформаторлар ўрнатиш) | H12: Ўрнатиш | I12: дона | J12: 4 | K12: =+J12*150 -> 600 | L12: 3 | M12: ТП
H13: Реконструция | I13: км | J13: 18.4 | K13: =+J13*140 -> 2576 | M13: электр
G14: Пиёдалар йўлаги куриш (тунги кўча ёритгичлари билан бирга) | H14: Янги қурилиш | I14: км | J14: 1 | K14: 350 | L14: 4 | M14: Пиёда
B15: Жами: | E15: =+E9*12.9 -> 22884498 | F15: 4 | K15: =+K14+K13+K12+K11+K10+K9 -> 23014
A16: 2 | B16: Ангор тумани | C16: Хомкон МФЙ | D16: 3100 | E16: 1155088.3 | G16: Ички йўлларни таъмирлаш. (Жами 7.01 км ички кўчаларни асфалтлаш) | H16: Мукаммал таъмирлаш | I16: км | J16: 7.01 | K16: =+J16*700 -> 4907 | L16: 1 | M16: йул
G17: Тоза ичимлик суви таъминотини яхшилаш (1 та янги 500 м3 сиғимли сув иншооти қуриш Жами 27,5 км ички сув тармоғи тортиш) | H17: Янги қурилиш | I17: Объект | J17: 1 | K17: 1000 | L17: 2 | M17: сув объект
H18: Янги қурилиш | I18: км | J18: 27.5 | K18: =+J18*320 -> 8800 | M18: сув км
G19: Пиёдалар йўлаги куриш (тунги кўча ёритгичлари билан бирга) | H19: Янги қурилиш | I19: км | J19: 1 | K19: 350 | L19: 3 | M19: Пиёда
B20: Жами: | E20: =+E16*12.9 -> 14900639 | F20: 3 | K20: =+K19+K18+K17+K16 -> 15057
A21: 3 | B21: Ангор тумани | C21: Гулистон МФЙ | D21: 2953 | E21: 1100314.8 | G21: Ички йўлларни таъмирлаш. (Жами 6.7 км ички кўчаларни асфалтлаш) | H21: Мукаммал таъмир | I21: км | J21: 6.7 | K21: =+J21*700 -> 4690 | L21: 1 | M21: йул
G22: Электр таъминотини яхшилаш. (Жами 16 км 04 ква электр тармоғи тортиш 4 дона янги 250 КВА лик трансформаторлар ўрнатиш) | H22: Ўрнатиш | I22: дона | J22: 4 | K22: 600 | L22: 2 | M22: ТП
H23: Реконструция | I23: км | J23: 16 | K23: =+J23*140 -> 2240 | M23: электр
G24: Тоза ичимлик суви таъминотини яхшилаш (Жами 8.2 км тоза ичимлик суви тармоғи тортиш) | H24: Янги қурилиш | I24: км | J24: 8.2 | K24: =+J24*320 -> 2624 | L24: 3 | M24: сув км
G25: 90 ўринли янги Мактабгача таълим ташкилоти қуриш | H25: Янги қурилиш | I25: ўрин | J25: 90 | K25: =+J25*46 -> 4140 | L25: 4 | M25: МТТ
G26: Пиёдалар йўлаги куриш (тунги кўча ёритгичлари билан бирга) | H26: Янги қурилиш | I26: км | J26: 1 | K26: 350 | L26: 5 | M26: Пиёда
B27: Жами: | E27: =+E21*12.9 -> 14194061 | F27: 5 | K27: =+K26+K25+K24+K23+K22+K21 -> 14644
A28: 4 | B28: Ангор тумани | C28: Юқори талашқон МФЙ | D28: 3264 | E28: 1216196.2 | G28: Электр таъминотини яхшилаш. (Жами 13 км (04 кв) электр тармоғи торотиш. 3 дона янги 250 КВА лик трансформаторлар ўрнатиш) | H28: Ўрнатиш | I28: дона | J28: 3 | K28: =J28*150 -> 450 | L28: 1 | M28: ТП
H29: Реконструция | I29: км | J29: 13 | K29: =J29*140 -> 1820 | M29: электр
G30: Ички йўлларни таъмирлаш. (Жами 6,4 км ички кўчаларни асфалтлаш) | H30: Мукаммал таъмирлаш | I30: км | J30: 6.4 | K30: =+J30*700 -> 4480 | L30: 2 | M30: йул
G31: Тоза ичимлик суви таъминотини яхшилаш (1 та янги 500 м3 сиғимли сув иншооти қуриш Жами 26.1 км тоза ичимлик суви тармоғи тортиш) | H31: Янги қурилиш | I31: Объект | J31: 1 | K31: 500 | L31: 3 | M31: сув объект
H32: Янги қурилиш | I32: км | J32: 26.1 | K32: =+J32*320 -> 8352 | M32: сув км
G33: Пиёдалар йўлаги куриш (тунги кўча ёритгичлари билан бирга) | H33: Янги қурилиш | I33: км | J33: 1 | K33: 350 | L33: 4 | M33: Пиёда
B34: Жами: | E34: =+E28*12.9 -> 15688931 | F34: 4 | K34: =+K33+K32+K31+K30+K29+K28 -> 15952
A35: 5 | B35: Ангор тумани | C35: Дўстлик (собиқ Охунбобоев) | D35: 2865 | E35: 1067525.2 | G35: 11-сонли 420 ўринли мактабни реконструкция қилиш 240 ўринли қўшимча бино қуриш. | H35: Реконструкция | I35: Ўрин | J35: 240 | K35: =240*13 -> 3120 | L35: 1 | M35: мактаб
G36: Ички йўлларни таъмирлаш. (Жами 14 км ички кўчаларни асфалтлаш) | H36: Мукаммал таъмирлаш | I36: км | J36: 14 | K36: =+J36*700 -> 9800 | L36: 2 | M36: йул
G37: Электр таъминотини яхшилаш (1 та 250 ква ТП ўрнатиш 5 км 04 кв тармоқни реконструкция қилиш) | H37: Ўрнатиш | I37: дона | J37: 1 | K37: 150 | L37: 3 | M37: ТП
H38: Реконструция | I38: км | J38: 5 | K38: 700 | M38: электр
G39: Пиёдалар йўлаги куриш (тунги кўча ёритгичлари билан бирга) | H39: Янги қурилиш | I39: км | J39: 1 | K39: 350 | L39: 4 | M39: Пиёда
B40: Жами: | E40: =+E35*12.9 -> 13771075 | F40: 4 | K40: =+K39+K38+K37+K36+K35 -> 14120
A41: 6 | B41: Ангор тумани | C41: Новшаҳар МФЙ | D41: 4005 | E41: 1492299.6 | G41: Ички йўлларни таъмирлаш. (Жами 16 км ички кўчаларни асфалтлаш) | H41: Мукаммал таъмирлаш | I41: км | J41: 16 | K41: =+J41*700 -> 11200 | L41: 1 | M41: йул
G42: Электр таъминотини яхшилаш. (Жами 11 км 04 кв электр тармоғи торотиш. 3 дона янги 400 КВА лик трансформаторлар ўрнатиш) | H42: Ўрнатиш | I42: дона | J42: 3 | K42: 450 | L42: 2 | M42: ТП
H43: Реконструкция | I43: км | J43: 11 | K43: 1540 | M43: электр
G44: Кўприкни реконструкция қилиш Тараққиёт ва Махтимқули кўчасини бирлаштирувчи 15х8 ўлчамли автомобил купригини реконструкция қилиш" | H44: Реконструкция | I44: Объект | J44: 1 | K44: 2000 | L44: 3 | M44: Кўприк
G45: Тоза ичимлик суви таъминотини яхшилаш (Жами 10,5 км сув тармоғи тортиш 3 та артизан қудуғини қазиш ва таъмирлаш) | H45: Янги қурилиш | I45: Объект | J45: 3 | K45: 1200 | L45: 4 | M45: сув объект
H46: Янги қурилиш | I46: км | J46: 10.5 | K46: 2720 | M46: сув км
G47: Пиёдалар йўлаги куриш (тунги кўча ёритгичлари билан бирга) | H47: Янги қурилиш | I47: км | J47: 1 | K47: 350 | L47: 5 | M47: Пиёда
B48: Жами: | E48: =+E41*12.9 -> 19250665 | F48: 5 | K48: =+K47+K46+K45+K44+K43+K42+K41 -> 19460
A49: 7 | B49: Ангор тумани | C49: Чинобод | D49: 3625 | E49: 1350708.1 | G49: 12 –сонли 620 ўринли мактабни реконструкция қилиш Мавжуд 140 ўринли ўқув биносини бузиб ўрнига 480 ўринли қўшимча янги ўқув биноси қуриш | H49: Реконструкция | I49: Ўрин | J49: 480 | K49: =480*13 -> 6240 | L49: 1 | M49: мактаб
G50: Ички йўлларни таъмирлаш. (Жами 10 км ички кўчаларни асфалтлаш) | H50: Мукаммал таъмирлаш | I50: км | J50: 10 | K50: =+J50*700 -> 7000 | L50: 2 | M50: йул
G51: 90 ўринли янги Мактабгача таълим ташкилоти қуриш Тараққиёт кўчаси (эски 25 МТТ ўрни) | H51: Янги қурилиш | I51: ўрин | J51: 90 | K51: =+J51*46 -> 4140 | L51: 3 | M51: МТТ
G52: Пиёдалар йўлаги куриш (тунги кўча ёритгичлари билан бирга) | H52: Янги қурилиш | I52: км | J52: 1 | K52: 350 | L52: 4 | M52: Пиёда
B53: Жами: | E53: =+E49*12.9 -> 17424135 | F53: 4 | K53: =+K52+K51+K50+K49 -> 17730
A54: 8 | B54: Ангор тумани | C54: Карвон МФЙ | D54: 3822 | E54: 1424112.1 | G54: Ички йўлларни таъмирлаш. (Жами 10 км ички кўчаларни асфалтлаш) | H54: Мукуммал таъмирлаш | I54: км | J54: 10 | K54: =+J54*700 -> 7000 | L54: 1 | M54: йул
G55: Электр таъминотини яхшилаш. (Жами 11 км (04 кв) электр тармоғи торотиш. 4 дона янги 250 КВА лик трансформаторлар ўрнатиш) | H55: Ўрнатиш | I55: дона | J55: 4 | K55: 600 | L55: 2 | M55: ТП
H56: Реконструкция | I56: км | J56: 11 | K56: =+J56*140 -> 1540 | M56: электр
G57: Тоза ичимлик суви таъминотини яхшилаш (Жами 16.7 км сув тармоғи тортиш. 2 та мавжуд сув қудуғини реконструкция қилиш) | H57: Реконструкция | I57: Объект | J57: 2 | K57: 5344 | L57: 3 | M57: сув объект
H58: Янги қурилиш | I58: км | J58: 16.7 | M58: сув км
G59: Пиёдалар йўлаги куриш (тунги кўча ёритгичлари билан бирга) (Оқсарой кўчасига 2 км 100 метр пиёдалар йўлаги қуриш) | H59: Янги қурилиш | I59: км | J59: 2.1 | K59: 630 | L59: 4 | M59: Пиёда
G60: 20 сонли 300 ўринли Мактабни реконструкция қилиш 1. Янги 12х24 ўлчамли спорт зали қуриш 2. Мактаб атрофини девор билан ўраш 3. 120 ўринли бинони мукаммал таъмирлаш | H60: Реконструкция | I60: Объект | J60: 0 | K60: 3520 | L60: 5 | M60: мактаб
B61: Жами: | E61: =+E54*12.9 -> 18371046 | F61: 5 | K61: =+K60+K59+K57+K56+K55+K54 -> 18634
A62: 9 | B62: Ангор тумани | C62: Қорабоғ МФЙ | D62: 4011 | E62: 1494535.3 | G62: Ички йўлларни таъмирлаш. (Жами 9.8 км ички кўчаларни асфалтлаш) | H62: Мукаммал таъмирлаш | I62: км | J62: 9.8 | K62: =+J62*700 -> 6860 | L62: 1 | M62: йул
G63: 34 сонли 360 ўринли Мактабни реконструкция қилиш Мавжуд мактабнинг 360 ўринли биносини бузиб: 1. янги 330 ўринли бино қуриш 2. 12х24 ўлчамли спорт зали қуриш 3. 50 ўринли ошхона | H63: Реконструкция | I63: ўрин | J63: 330 | K63: =+J63*13+1600+500 -> 6390 | L63: 2 | M63: мактаб
G64: Пиёдалар йўлаги куриш (тунги кўча ёритгичлари билан бирга) (“Истиқлол” кўчаси буйлаб 1,9 км пиёдалар йўлаги ва тунги ёритгичлар ўрнатиш шу йўлларга 3 та пиёдалар кўпиригини қуриш) | H64: Янги қурилиш | I64: км | J64: 1.9 | K64: 2000 | L64: 3 | M64: Пиёда
G65: Тоза ичимлик суви таъминотини яхшилаш (4,5 км ички сув тармоғи тортиш) | H65: Янги қурилиш | I65: км | J65: 4.5 | K65: =+J65*320 -> 1440 | L65: 4 | M65: сув км
B66: Жами: | E66: =+E62*12.9 -> 19279505 | F66: 4 | K66: =+K65+K64+K63+K62 -> 16690
A67: =+A127 -> 9 | B67: Бойсун тумани | D67: =D68+D77+D85+D94+D102+D110+D115+D122+D127 -> 28208 | E67: =+E68+E77+E85+E94+E102+E110+E115+E122+E127 -> 10510559 | F67: =+F76+F84+F93+F101+F109+F114+F121+F126+F131 -> 44 | K67: =+K76+K84+K93+K101+K109+K114+K121+K126+K131 -> 136767.5
A68: 1 | B68: Бойсун тумани | C68: Даштиғоз МФЙ | D68: 4046 | E68: 1507576.6 | G68: Тоза ичимлик суви таъминотини яхшилаш (Жами 33 км янги ички сув тармоғи тортиш 1 дона 500 м3 лик сув сақлаш ҳовузи қуриш) | H68: Янги қурилиш | I68: Объект | J68: 1 | K68: 4704 | L68: 1 | M68: сув объект
H69: Реконструкция | I69: км | J69: 33 | M69: сув км
G70: Электр таъминотини яхшилаш. (Жами 20 км тармоқ шундан 17 км 04 кв ҳамда 3 км 10 кв электр тармоғи тортиш, 4 дона янги 250 КВА лик трансформаторлар ўрнатиш) | H70: Ўрнатиш | I70: дона | J70: 4 | K70: 600 | L70: 2 | M70: ТП
H71: Реконструкция | I71: км | J71: 20 | K71: 2800 | M71: электр
G72: Ички йўлларни таъмирлаш. (Жами 9.8 км ички кўчаларни асфалтлаш) | H72: Мукаммал таъмирлаш | I72: км | J72: 9.8 | K72: =+J72*700 -> 6860 | L72: 3 | M72: йул
G73: 49-сонли 180 ўринли мактабни реконструкция қилиш. Мавжуд бўш турган устахона биносини реконструкция қилиш орқали 120 ўринли ўқув биноси ташкил қилиш | H73: Реконструкция | I73: ўрин | J73: 120 | K73: =120*13 -> 1560 | L73: 4 | M73: мактаб
G74: Кўприклар қуриш. Жами 1 та автомобиллар кўприги куриш Пулҳоким станциясига ўтувчи йўлга 1 та, | H74: Янги қурилиш | I74: Объект | J74: 1 | K74: 3000 | L74: 5 | M74: Кўприк
G75: Пиёдалар йўлаги куриш (тунги кўча ёритгичлари билан бирга) | H75: Янги қурилиш | I75: км | J75: 1 | K75: 350 | L75: 6 | M75: Пиёда
B76: Жами: | E76: =+E68*12.9 -> 19447738 | F76: 6 | K76: =+K75+K74+K73+K72+K71+K70+K68 -> 19874
A77: 2 | B77: Бойсун тумани | C77: Кофрун МФЙ | D77: 3516 | E77: 1310093.7 | G77: 32-сонли 420 ўринли мактабни реконструкция қилиш Қўшимча 180-ўринли янги бино қуриш | H77: Реконструкция | I77: ўрин | J77: 180 | K77: =180*13 -> 2340 | L77: 1 | M77: мактаб
G78: Электр таъминотини яхшилаш. (Жами 8 км электр тармоғи шундан 6.5 км 04 ква ҳамда 1.5 км 10 ква тармоқ тортиш. 2 дона янги 250 КВА лик трансформаторлар ўрнатиш.) | H78: Ўрнатиш | I78: дона | J78: 2 | K78: 300 | L78: 2 | M78: ТП
H79: Реконструкция | I79: км | J79: 8 | K79: 1120 | M79: электр
G80: Тоза ичимлик суви таъминотини яхшилаш (Жами 2,9 км сув тармоғи тортиш ва мавжуд сув иншоотини (2 та 250 м3) реконструкция қилиш) | H80: Реконструкция | I80: Объект | J80: 2 | K80: 1200 | L80: 3 | M80: сув объект
H81: Янги қурилиш | I81: км | J81: 2.9 | K81: =+J81*320 -> 928 | M81: сув км
G82: Ички йўлларни таъмирлаш. Жами 16 км ички кўчаларни асфалтлаш. | H82: Мукаммал таъмирлаш | I82: км | J82: 16 | K82: =+J82*700 -> 11200 | L82: 4 | M82: йул
G83: Пиёдалар йўлаги куриш (тунги кўча ёритгичлари билан бирга) | H83: Янги қурилиш | I83: км | J83: 1 | K83: 350 | L83: 5 | M83: Пиёда
B84: Жами: | E84: =+E77*12.9 -> 16900209 | F84: 5 | K84: =+K83+K82+K81+K80+K79+K78+K77 -> 17438
A85: 3 | B85: Бойсун тумани | C85: Бибиширин МФЙ | D85: 4028 | E85: 1500869.6 | G85: Тоза ичимлик суви таъминотини яхшилаш Жами 3 км сув тармоғи тортиш 1 та 1000 м3 ва 500 м3 сув ҳовузи қуриш | H85: Янги қурилиш | I85: Объект | J85: 2 | K85: 2000 | L85: 1 | M85: сув объект
H86: Янги қурилиш | I86: км | J86: 3 | K86: 1500 | M86: сув км
G87: Ички йўлларни таъмирлаш. (Жами 17 км ички кўчаларни асфалтлаш) | H87: Мукаммал таъмирлаш | I87: км | J87: 17 | K87: =+J87*700 -> 11900 | L87: 2 | M87: йул
G88: Электр таъминотини яхшилаш. Жами 8 км (04 кв) электр тармоғи тортиш. 3 дона янги 250 КВА лик трансформаторлар ўрнатиш: | H88: Ўрнатиш | I88: дона | J88: 3 | K88: 450 | L88: 3 | M88: ТП
H89: Реконструкция | I89: км | J89: 8 | K89: 1120 | M89: электр
G90: Кўприк қуриш Сарғиёзи участкасидаги сойга кўприк қуриш | H90: Янги қурилиш | I90: Объект | J90: 1 | K90: 500 | L90: 4 | M90: Кўприк
G91: Тунги кўча ёритиш тизимини барпо этиш Жами 2 км кўчаларга | H91: Янги қурилиш | I91: км | J91: 2 | K91: 500 | L91: 5 | M91: Пиёда
G92: Ирригация тизимини яхшилаш 1. Себзор кўчаси ёқасидаги мавжуд 2,4 км ариқларни бетонлаш | H92: Реконструкция | I92: км | J92: 2.43 | K92: =+J92*350 -> 850.5 | L92: 6 | M92: Ирригация км
B93: Жами: | E93: =+E85*12.9 -> 19361218 | F93: 6 | K93: =+K92+K91+K90+K89+K88+K87+K86+K85 -> 18820.5
A94: 4 | B94: Бойсун тумани | C94: Пулхоким МФЙ | D94: 2946 | E94: 1097706.5 | G94: Тоза ичимлик суви таъминотини яхшилаш Жами 1,6 км сув тармоғи тортиш | H94: Янги қурилиш | I94: км | J94: 1.6 | K94: =+J94*320 -> 512 | L94: 1 | M94: сув км
G95: Ирригация тизимини яхшилаш Пулхоким кўчасидаги асосий ариқниннг 10,5 км қисмини бетонлаш. (3 та сув тақсимлаш сарбандлари билан) | H95: Реконструкция | I95: км | J95: 10.5 | K95: =+J95*350 -> 3675 | L95: 2 | M95: Ирригация км
G96: Ички йўлларни таъмирлаш. Жами 8,5 км ички кўчаларни асфалтлаш. | H96: Мукаммал таъмирлаш | I96: км | J96: 8.5 | K96: =+J96*700 -> 5950 | L96: 3 | M96: йул
G97: Электр таъминотини яхшилаш. Жами 8 км (04 кв) электр тармоғи торотиш. 3 дона янги 160 КВА лик трансформаторлар ўрнатиш. | H97: Ўрнатиш | I97: дона | J97: 3 | K97: 450 | L97: 4 | M97: ТП
H98: Реконструкция | I98: км | J98: 8 | K98: 1120 | M98: электр
G99: Кўприк қуриш. Боғчасарой кўчасидан Кулчинор кўчасига ўтувчи автомобиллар ва пиёдалар кўприги қуриш | H99: Янги қурилиш | I99: Объект | J99: 1 | K99: 2300 | L99: 5 | M99: Кўприк
G100: Пиёдалар йўлаги куриш (тунги кўча ёритгичлари билан бирга) | H100: Янги қурилиш | I100: км | J100: 1 | K100: 350 | L100: 6 | M100: Пиёда
B101: Жами: | E101: =+E94*12.9 -> 14160414 | F101: 6 | K101: =+K100+K99+K98+K97+K96+K95+K94 -> 14357
...
